BEGIN:VCALENDAR
VERSION:2.0
PRODID:-//Test - ECPv6.15.20//NONSGML v1.0//EN
CALSCALE:GREGORIAN
METHOD:PUBLISH
X-WR-CALNAME:Test
X-ORIGINAL-URL:https://staging.tallitydrukud.ee
X-WR-CALDESC:Events for Test
REFRESH-INTERVAL;VALUE=DURATION:PT1H
X-Robots-Tag:noindex
X-PUBLISHED-TTL:PT1H
BEGIN:VTIMEZONE
TZID:Europe/Helsinki
BEGIN:DAYLIGHT
TZOFFSETFROM:+0200
TZOFFSETTO:+0300
TZNAME:EEST
DTSTART:20230326T010000
END:DAYLIGHT
BEGIN:STANDARD
TZOFFSETFROM:+0300
TZOFFSETTO:+0200
TZNAME:EET
DTSTART:20231029T010000
END:STANDARD
BEGIN:DAYLIGHT
TZOFFSETFROM:+0200
TZOFFSETTO:+0300
TZNAME:EEST
DTSTART:20240331T010000
END:DAYLIGHT
BEGIN:STANDARD
TZOFFSETFROM:+0300
TZOFFSETTO:+0200
TZNAME:EET
DTSTART:20241027T010000
END:STANDARD
BEGIN:DAYLIGHT
TZOFFSETFROM:+0200
TZOFFSETTO:+0300
TZNAME:EEST
DTSTART:20250330T010000
END:DAYLIGHT
BEGIN:STANDARD
TZOFFSETFROM:+0300
TZOFFSETTO:+0200
TZNAME:EET
DTSTART:20251026T010000
END:STANDARD
BEGIN:DAYLIGHT
TZOFFSETFROM:+0200
TZOFFSETTO:+0300
TZNAME:EEST
DTSTART:20260329T010000
END:DAYLIGHT
BEGIN:STANDARD
TZOFFSETFROM:+0300
TZOFFSETTO:+0200
TZNAME:EET
DTSTART:20261025T010000
END:STANDARD
END:VTIMEZONE
BEGIN:VEVENT
DTSTART;TZID=Europe/Helsinki:20250523T190000
DTEND;TZID=Europe/Helsinki:20250523T210000
DTSTAMP:20260422T133659
CREATED:20250428T045442Z
LAST-MODIFIED:20250428T045442Z
UID:2103-1748026800-1748034000@staging.tallitydrukud.ee
SUMMARY:Saviring Tusaris
DESCRIPTION:Regulaarne saviring! Tule tee näpud saviseks! Oodatud on nii algajad kui ka need\, kes on saviga juba varasemalt kokku puutunud. \nRohkem saviringide kohta saad lugeda siit ja tervet tulevate sündmuste kalendrit näed siit!
URL:https://staging.tallitydrukud.ee/syndmus/saviring-tusaris-38/
LOCATION:Saviring\, Mardi\, Tusari küla\, Lääne-Nigula vald\, Läänemaa\, 91112\, Eesti
CATEGORIES:Saviring
ATTACH;FMTTYPE=image/jpeg:https://staging.tallitydrukud.ee/wp-content/uploads/2024/03/kairit_keraamika_saviring.jpg
ORGANIZER;CN="Kairit Errit":MAILTO:info@kairitkeraamika.ee
END:VEVENT
BEGIN:VEVENT
DTSTART;TZID=Europe/Helsinki:20250512T190000
DTEND;TZID=Europe/Helsinki:20250512T210000
DTSTAMP:20260422T133659
CREATED:20250428T045313Z
LAST-MODIFIED:20250428T045313Z
UID:2101-1747076400-1747083600@staging.tallitydrukud.ee
SUMMARY:Saviring Tusaris
DESCRIPTION:Regulaarne saviring! Tule tee näpud saviseks! Oodatud on nii algajad kui ka need\, kes on saviga juba varasemalt kokku puutunud. \nRohkem saviringide kohta saad lugeda siit ja tervet tulevate sündmuste kalendrit näed siit!
URL:https://staging.tallitydrukud.ee/syndmus/saviring-tusaris-37/
LOCATION:Saviring\, Mardi\, Tusari küla\, Lääne-Nigula vald\, Läänemaa\, 91112\, Eesti
CATEGORIES:Saviring
ATTACH;FMTTYPE=image/jpeg:https://staging.tallitydrukud.ee/wp-content/uploads/2024/03/kairit_keraamika_saviring.jpg
ORGANIZER;CN="Kairit Errit":MAILTO:info@kairitkeraamika.ee
END:VEVENT
BEGIN:VEVENT
DTSTART;TZID=Europe/Helsinki:20250509T190000
DTEND;TZID=Europe/Helsinki:20250509T210000
DTSTAMP:20260422T133659
CREATED:20250428T045112Z
LAST-MODIFIED:20250428T045112Z
UID:2099-1746817200-1746824400@staging.tallitydrukud.ee
SUMMARY:Saviring Tusaris
DESCRIPTION:Regulaarne saviring! Tule tee näpud saviseks! Oodatud on nii algajad kui ka need\, kes on saviga juba varasemalt kokku puutunud. \nRohkem saviringide kohta saad lugeda siit ja tervet tulevate sündmuste kalendrit näed siit!
URL:https://staging.tallitydrukud.ee/syndmus/saviring-tusaris-36/
LOCATION:Saviring\, Mardi\, Tusari küla\, Lääne-Nigula vald\, Läänemaa\, 91112\, Eesti
CATEGORIES:Saviring
ATTACH;FMTTYPE=image/jpeg:https://staging.tallitydrukud.ee/wp-content/uploads/2024/03/kairit_keraamika_saviring.jpg
ORGANIZER;CN="Kairit Errit":MAILTO:info@kairitkeraamika.ee
END:VEVENT
BEGIN:VEVENT
DTSTART;TZID=Europe/Helsinki:20250428T180000
DTEND;TZID=Europe/Helsinki:20250428T200000
DTSTAMP:20260422T133659
CREATED:20250412T095829Z
LAST-MODIFIED:20250412T095829Z
UID:2044-1745863200-1745870400@staging.tallitydrukud.ee
SUMMARY:Saviring Tusaris
DESCRIPTION:Tule tee näpud saviseks saviringis! Oodatud on nii algajad kui ka need\, kes on saviga juba varasemalt kokku puutunud.
URL:https://staging.tallitydrukud.ee/syndmus/saviring-tusaris-34/
LOCATION:Saviring\, Mardi\, Tusari küla\, Lääne-Nigula vald\, Läänemaa\, 91112\, Eesti
CATEGORIES:Saviring
ATTACH;FMTTYPE=image/jpeg:https://staging.tallitydrukud.ee/wp-content/uploads/2024/03/kairit_keraamika_saviring.jpg
ORGANIZER;CN="Kairit Errit":MAILTO:info@kairitkeraamika.ee
END:VEVENT
BEGIN:VEVENT
DTSTART;TZID=Europe/Helsinki:20250427T120000
DTEND;TZID=Europe/Helsinki:20250427T140000
DTSTAMP:20260422T133659
CREATED:20250412T095545Z
LAST-MODIFIED:20250412T141917Z
UID:2041-1745755200-1745762400@staging.tallitydrukud.ee
SUMMARY:Saviring Tusaris
DESCRIPTION:Tule tee näpud saviseks saviringis! Oodatud on nii algajad kui ka need\, kes on saviga juba varasemalt kokku puutunud.
URL:https://staging.tallitydrukud.ee/syndmus/saviring-tusaris-35/
LOCATION:Saviring\, Mardi\, Tusari küla\, Lääne-Nigula vald\, Läänemaa\, 91112\, Eesti
CATEGORIES:Saviring
ATTACH;FMTTYPE=image/jpeg:https://staging.tallitydrukud.ee/wp-content/uploads/2024/03/kairit_keraamika_saviring.jpg
ORGANIZER;CN="Kairit Errit":MAILTO:info@kairitkeraamika.ee
END:VEVENT
BEGIN:VEVENT
DTSTART;TZID=Europe/Helsinki:20250426T190000
DTEND;TZID=Europe/Helsinki:20250426T210000
DTSTAMP:20260422T133659
CREATED:20250428T045611Z
LAST-MODIFIED:20250428T045611Z
UID:2105-1745694000-1745701200@staging.tallitydrukud.ee
SUMMARY:Saviring Tusaris
DESCRIPTION:Regulaarne saviring! Tule tee näpud saviseks! Oodatud on nii algajad kui ka need\, kes on saviga juba varasemalt kokku puutunud. \nRohkem saviringide kohta saad lugeda siit ja tervet tulevate sündmuste kalendrit näed siit!
URL:https://staging.tallitydrukud.ee/syndmus/saviring-tusaris-39/
LOCATION:Saviring\, Mardi\, Tusari küla\, Lääne-Nigula vald\, Läänemaa\, 91112\, Eesti
CATEGORIES:Saviring
ATTACH;FMTTYPE=image/jpeg:https://staging.tallitydrukud.ee/wp-content/uploads/2024/03/kairit_keraamika_saviring.jpg
ORGANIZER;CN="Kairit Errit":MAILTO:info@kairitkeraamika.ee
END:VEVENT
BEGIN:VEVENT
DTSTART;TZID=Europe/Helsinki:20250414T180000
DTEND;TZID=Europe/Helsinki:20250414T200000
DTSTAMP:20260422T133659
CREATED:20250412T095353Z
LAST-MODIFIED:20250412T095353Z
UID:2039-1744653600-1744660800@staging.tallitydrukud.ee
SUMMARY:Saviring Tusaris
DESCRIPTION:Tule tee näpud saviseks saviringis!\nOodatud on nii algajad kui ka need\, kes on saviga juba varasemalt kokku puutunud.
URL:https://staging.tallitydrukud.ee/syndmus/saviring-tusaris-33/
LOCATION:Saviring\, Mardi\, Tusari küla\, Lääne-Nigula vald\, Läänemaa\, 91112\, Eesti
CATEGORIES:Saviring
ATTACH;FMTTYPE=image/jpeg:https://staging.tallitydrukud.ee/wp-content/uploads/2024/03/kairit_keraamika_saviring.jpg
ORGANIZER;CN="Kairit Errit":MAILTO:info@kairitkeraamika.ee
END:VEVENT
BEGIN:VEVENT
DTSTART;TZID=Europe/Helsinki:20250413T120000
DTEND;TZID=Europe/Helsinki:20250413T140000
DTSTAMP:20260422T133659
CREATED:20250412T093208Z
LAST-MODIFIED:20250412T093208Z
UID:2037-1744545600-1744552800@staging.tallitydrukud.ee
SUMMARY:Saviring Tusaris
DESCRIPTION:Tule tee näpud saviseks saviringis!\nOodatud on nii algajad kui ka need\, kes on saviga juba varasemalt kokku puutunud.
URL:https://staging.tallitydrukud.ee/syndmus/saviring-tusaris-32/
LOCATION:Saviring\, Mardi\, Tusari küla\, Lääne-Nigula vald\, Läänemaa\, 91112\, Eesti
CATEGORIES:Saviring
ATTACH;FMTTYPE=image/jpeg:https://staging.tallitydrukud.ee/wp-content/uploads/2024/03/kairit_keraamika_saviring.jpg
ORGANIZER;CN="Kairit Errit":MAILTO:info@kairitkeraamika.ee
END:VEVENT
BEGIN:VEVENT
DTSTART;TZID=Europe/Helsinki:20250406T120000
DTEND;TZID=Europe/Helsinki:20250406T140000
DTSTAMP:20260422T133659
CREATED:20250412T093048Z
LAST-MODIFIED:20250412T093048Z
UID:2035-1743940800-1743948000@staging.tallitydrukud.ee
SUMMARY:Saviring Tusaris
DESCRIPTION:Tule tee näpud saviseks saviringis!\nOodatud on nii algajad kui ka need\, kes on saviga juba varasemalt kokku puutunud.
URL:https://staging.tallitydrukud.ee/syndmus/saviring-tusaris-31/
LOCATION:Saviring\, Mardi\, Tusari küla\, Lääne-Nigula vald\, Läänemaa\, 91112\, Eesti
CATEGORIES:Saviring
ATTACH;FMTTYPE=image/jpeg:https://staging.tallitydrukud.ee/wp-content/uploads/2024/03/kairit_keraamika_saviring.jpg
ORGANIZER;CN="Kairit Errit":MAILTO:info@kairitkeraamika.ee
END:VEVENT
BEGIN:VEVENT
DTSTART;TZID=Europe/Helsinki:20250331T180000
DTEND;TZID=Europe/Helsinki:20250331T200000
DTSTAMP:20260422T133659
CREATED:20250412T092905Z
LAST-MODIFIED:20250412T092905Z
UID:2033-1743444000-1743451200@staging.tallitydrukud.ee
SUMMARY:Saviring Tusaris
DESCRIPTION:Tule tee näpud saviseks saviringis!\nOodatud on nii algajad kui ka need\, kes on saviga juba varasemalt kokku puutunud.
URL:https://staging.tallitydrukud.ee/syndmus/saviring-tusaris-30/
LOCATION:Saviring\, Mardi\, Tusari küla\, Lääne-Nigula vald\, Läänemaa\, 91112\, Eesti
CATEGORIES:Saviring
ATTACH;FMTTYPE=image/jpeg:https://staging.tallitydrukud.ee/wp-content/uploads/2024/03/kairit_keraamika_saviring.jpg
ORGANIZER;CN="Kairit Errit":MAILTO:info@kairitkeraamika.ee
END:VEVENT
BEGIN:VEVENT
DTSTART;TZID=Europe/Helsinki:20250317T180000
DTEND;TZID=Europe/Helsinki:20250317T200000
DTSTAMP:20260422T133659
CREATED:20250412T092229Z
LAST-MODIFIED:20250412T092229Z
UID:2031-1742234400-1742241600@staging.tallitydrukud.ee
SUMMARY:Saviring Tusaris
DESCRIPTION:Tule tee näpud saviseks saviringis! Oodatud on nii algajad kui ka need\, kes on saviga juba varasemalt kokku puutunud.
URL:https://staging.tallitydrukud.ee/syndmus/saviring-tusaris-29/
LOCATION:Saviring\, Mardi\, Tusari küla\, Lääne-Nigula vald\, Läänemaa\, 91112\, Eesti
CATEGORIES:Saviring
ATTACH;FMTTYPE=image/jpeg:https://staging.tallitydrukud.ee/wp-content/uploads/2024/03/kairit_keraamika_saviring.jpg
ORGANIZER;CN="Kairit Errit":MAILTO:info@kairitkeraamika.ee
END:VEVENT
BEGIN:VEVENT
DTSTART;TZID=Europe/Helsinki:20250316T120000
DTEND;TZID=Europe/Helsinki:20250316T140000
DTSTAMP:20260422T133659
CREATED:20250412T092059Z
LAST-MODIFIED:20250412T092059Z
UID:2029-1742126400-1742133600@staging.tallitydrukud.ee
SUMMARY:Saviring Tusaris
DESCRIPTION:Tule tee näpud saviseks saviringis!\nOodatud on nii algajad kui ka need\, kes on saviga juba varasemalt kokku puutunud.
URL:https://staging.tallitydrukud.ee/syndmus/saviring-tusaris-28/
LOCATION:Saviring\, Mardi\, Tusari küla\, Lääne-Nigula vald\, Läänemaa\, 91112\, Eesti
CATEGORIES:Saviring
ATTACH;FMTTYPE=image/jpeg:https://staging.tallitydrukud.ee/wp-content/uploads/2024/03/kairit_keraamika_saviring.jpg
ORGANIZER;CN="Kairit Errit":MAILTO:info@kairitkeraamika.ee
END:VEVENT
BEGIN:VEVENT
DTSTART;TZID=Europe/Helsinki:20250303T180000
DTEND;TZID=Europe/Helsinki:20250303T200000
DTSTAMP:20260422T133659
CREATED:20250412T091913Z
LAST-MODIFIED:20250412T091913Z
UID:2027-1741024800-1741032000@staging.tallitydrukud.ee
SUMMARY:Saviring Tusaris
DESCRIPTION:Tule tee näpud saviseks saviringis!\nOodatud on nii algajad kui ka need\, kes on saviga juba varasemalt kokku puutunud.
URL:https://staging.tallitydrukud.ee/syndmus/saviring-tusaris-27/
LOCATION:Saviring\, Mardi\, Tusari küla\, Lääne-Nigula vald\, Läänemaa\, 91112\, Eesti
CATEGORIES:Saviring
ATTACH;FMTTYPE=image/jpeg:https://staging.tallitydrukud.ee/wp-content/uploads/2024/03/kairit_keraamika_saviring.jpg
ORGANIZER;CN="Kairit Errit":MAILTO:info@kairitkeraamika.ee
END:VEVENT
BEGIN:VEVENT
DTSTART;TZID=Europe/Helsinki:20250302T120000
DTEND;TZID=Europe/Helsinki:20250302T140000
DTSTAMP:20260422T133659
CREATED:20250412T090106Z
LAST-MODIFIED:20250412T091917Z
UID:2024-1740916800-1740924000@staging.tallitydrukud.ee
SUMMARY:Saviring Tusaris
DESCRIPTION:Tule tee näpud saviseks saviringis!\nOodatud on nii algajad kui ka need\, kes on saviga juba varasemalt kokku puutunud.
URL:https://staging.tallitydrukud.ee/syndmus/saviring-tusaris-26/
LOCATION:Saviring\, Mardi\, Tusari küla\, Lääne-Nigula vald\, Läänemaa\, 91112\, Eesti
CATEGORIES:Saviring
ATTACH;FMTTYPE=image/jpeg:https://staging.tallitydrukud.ee/wp-content/uploads/2024/03/kairit_keraamika_saviring.jpg
ORGANIZER;CN="Kairit Errit":MAILTO:info@kairitkeraamika.ee
END:VEVENT
BEGIN:VEVENT
DTSTART;TZID=Europe/Helsinki:20250217T180000
DTEND;TZID=Europe/Helsinki:20250217T200000
DTSTAMP:20260422T133659
CREATED:20250107T174248Z
LAST-MODIFIED:20250107T190022Z
UID:1959-1739815200-1739822400@staging.tallitydrukud.ee
SUMMARY:Saviring Tusaris
DESCRIPTION:Tule tee näpud saviseks saviringis!\nOodatud on nii algajad kui ka need\, kes on saviga juba varasemalt kokku puutunud. \nPane end kirja siin!
URL:https://staging.tallitydrukud.ee/syndmus/saviring-tusaris-25/
LOCATION:Saviring\, Mardi\, Tusari küla\, Lääne-Nigula vald\, Läänemaa\, 91112\, Eesti
CATEGORIES:Saviring
ATTACH;FMTTYPE=image/jpeg:https://staging.tallitydrukud.ee/wp-content/uploads/2024/03/kairit_keraamika_saviring.jpg
ORGANIZER;CN="Kairit Errit":MAILTO:info@kairitkeraamika.ee
END:VEVENT
BEGIN:VEVENT
DTSTART;TZID=Europe/Helsinki:20250216T120000
DTEND;TZID=Europe/Helsinki:20250216T140000
DTSTAMP:20260422T133659
CREATED:20250107T174248Z
LAST-MODIFIED:20250107T185731Z
UID:1958-1739707200-1739714400@staging.tallitydrukud.ee
SUMMARY:Saviring Tusaris
DESCRIPTION:Tule tee näpud saviseks saviringis!\nOodatud on nii algajad kui ka need\, kes on saviga juba varasemalt kokku puutunud. \nPane end kirja siin!
URL:https://staging.tallitydrukud.ee/syndmus/saviring-tusaris-24/
LOCATION:Saviring\, Mardi\, Tusari küla\, Lääne-Nigula vald\, Läänemaa\, 91112\, Eesti
CATEGORIES:Saviring
ATTACH;FMTTYPE=image/jpeg:https://staging.tallitydrukud.ee/wp-content/uploads/2024/03/kairit_keraamika_saviring.jpg
ORGANIZER;CN="Kairit Errit":MAILTO:info@kairitkeraamika.ee
END:VEVENT
BEGIN:VEVENT
DTSTART;TZID=Europe/Helsinki:20250203T180000
DTEND;TZID=Europe/Helsinki:20250203T200000
DTSTAMP:20260422T133659
CREATED:20250107T174248Z
LAST-MODIFIED:20250107T185645Z
UID:1957-1738605600-1738612800@staging.tallitydrukud.ee
SUMMARY:Saviring Tusaris
DESCRIPTION:Tule tee näpud saviseks saviringis!\nOodatud on nii algajad kui ka need\, kes on saviga juba varasemalt kokku puutunud. \nPane end kirja siin!
URL:https://staging.tallitydrukud.ee/syndmus/saviring-tusaris-23/
LOCATION:Saviring\, Mardi\, Tusari küla\, Lääne-Nigula vald\, Läänemaa\, 91112\, Eesti
CATEGORIES:Saviring
ATTACH;FMTTYPE=image/jpeg:https://staging.tallitydrukud.ee/wp-content/uploads/2024/03/kairit_keraamika_saviring.jpg
ORGANIZER;CN="Kairit Errit":MAILTO:info@kairitkeraamika.ee
END:VEVENT
BEGIN:VEVENT
DTSTART;TZID=Europe/Helsinki:20250202T120000
DTEND;TZID=Europe/Helsinki:20250202T140000
DTSTAMP:20260422T133659
CREATED:20250107T174248Z
LAST-MODIFIED:20250107T185558Z
UID:1956-1738497600-1738504800@staging.tallitydrukud.ee
SUMMARY:Saviring Tusaris
DESCRIPTION:Tule tee näpud saviseks saviringis!\nOodatud on nii algajad kui ka need\, kes on saviga juba varasemalt kokku puutunud. \nPane end kirja siin!
URL:https://staging.tallitydrukud.ee/syndmus/saviring-tusaris-22/
LOCATION:Saviring\, Mardi\, Tusari küla\, Lääne-Nigula vald\, Läänemaa\, 91112\, Eesti
CATEGORIES:Saviring
ATTACH;FMTTYPE=image/jpeg:https://staging.tallitydrukud.ee/wp-content/uploads/2024/03/kairit_keraamika_saviring.jpg
ORGANIZER;CN="Kairit Errit":MAILTO:info@kairitkeraamika.ee
END:VEVENT
BEGIN:VEVENT
DTSTART;TZID=Europe/Helsinki:20250120T180000
DTEND;TZID=Europe/Helsinki:20250120T200000
DTSTAMP:20260422T133659
CREATED:20250107T173611Z
LAST-MODIFIED:20250107T173611Z
UID:1949-1737396000-1737403200@staging.tallitydrukud.ee
SUMMARY:Saviring Tusaris
DESCRIPTION:Tule tee näpud saviseks saviringis!\nOodatud on nii algajad kui ka need\, kes on saviga juba varasemalt kokku puutunud. \nPane end kirja siin!
URL:https://staging.tallitydrukud.ee/syndmus/saviring-tusaris-21/
LOCATION:Saviring\, Mardi\, Tusari küla\, Lääne-Nigula vald\, Läänemaa\, 91112\, Eesti
CATEGORIES:Saviring
ATTACH;FMTTYPE=image/jpeg:https://staging.tallitydrukud.ee/wp-content/uploads/2024/03/kairit_keraamika_saviring.jpg
ORGANIZER;CN="Kairit Errit":MAILTO:info@kairitkeraamika.ee
END:VEVENT
BEGIN:VEVENT
DTSTART;TZID=Europe/Helsinki:20250119T120000
DTEND;TZID=Europe/Helsinki:20250119T140000
DTSTAMP:20260422T133659
CREATED:20250107T173350Z
LAST-MODIFIED:20250107T190110Z
UID:1948-1737288000-1737295200@staging.tallitydrukud.ee
SUMMARY:Saviring Tusaris
DESCRIPTION:Tule tee näpud saviseks saviringis!\nOodatud on nii algajad kui ka need\, kes on saviga juba varasemalt kokku puutunud. \nPane end kirja siin!
URL:https://staging.tallitydrukud.ee/syndmus/saviring-tusaris-20/
LOCATION:Saviring\, Mardi\, Tusari küla\, Lääne-Nigula vald\, Läänemaa\, 91112\, Eesti
CATEGORIES:Saviring
ATTACH;FMTTYPE=image/jpeg:https://staging.tallitydrukud.ee/wp-content/uploads/2024/03/kairit_keraamika_saviring.jpg
ORGANIZER;CN="Kairit Errit":MAILTO:info@kairitkeraamika.ee
END:VEVENT
BEGIN:VEVENT
DTSTART;TZID=Europe/Helsinki:20250106T180000
DTEND;TZID=Europe/Helsinki:20250106T200000
DTSTAMP:20260422T133659
CREATED:20250107T173235Z
LAST-MODIFIED:20250107T173235Z
UID:1947-1736186400-1736193600@staging.tallitydrukud.ee
SUMMARY:Saviring Tusaris
DESCRIPTION:Tule tee näpud saviseks saviringis!\nOodatud on nii algajad kui ka need\, kes on saviga juba varasemalt kokku puutunud. \nPane end kirja siin!
URL:https://staging.tallitydrukud.ee/syndmus/saviring-tusaris-19/
LOCATION:Saviring\, Mardi\, Tusari küla\, Lääne-Nigula vald\, Läänemaa\, 91112\, Eesti
CATEGORIES:Saviring
ATTACH;FMTTYPE=image/jpeg:https://staging.tallitydrukud.ee/wp-content/uploads/2024/03/kairit_keraamika_saviring.jpg
ORGANIZER;CN="Kairit Errit":MAILTO:info@kairitkeraamika.ee
END:VEVENT
BEGIN:VEVENT
DTSTART;TZID=Europe/Helsinki:20250105T120000
DTEND;TZID=Europe/Helsinki:20250105T140000
DTSTAMP:20260422T133659
CREATED:20250107T173024Z
LAST-MODIFIED:20250107T173024Z
UID:1946-1736078400-1736085600@staging.tallitydrukud.ee
SUMMARY:Saviring Tusaris
DESCRIPTION:Tule tee näpud saviseks saviringis!\nOodatud on nii algajad kui ka need\, kes on saviga juba varasemalt kokku puutunud. \nPane end kirja siin!
URL:https://staging.tallitydrukud.ee/syndmus/saviring-tusaris-18/
LOCATION:Saviring\, Mardi\, Tusari küla\, Lääne-Nigula vald\, Läänemaa\, 91112\, Eesti
CATEGORIES:Saviring
ATTACH;FMTTYPE=image/jpeg:https://staging.tallitydrukud.ee/wp-content/uploads/2024/03/kairit_keraamika_saviring.jpg
ORGANIZER;CN="Kairit Errit":MAILTO:info@kairitkeraamika.ee
END:VEVENT
BEGIN:VEVENT
DTSTART;TZID=Europe/Helsinki:20240722T190000
DTEND;TZID=Europe/Helsinki:20240722T210000
DTSTAMP:20260422T133659
CREATED:20240628T105029Z
LAST-MODIFIED:20240628T105116Z
UID:1834-1721674800-1721682000@staging.tallitydrukud.ee
SUMMARY:Saviring Tusaris
DESCRIPTION:Tule tee näpud saviseks saviringis!\nOodatud on nii algajad kui ka need\, kes on saviga juba varasemalt kokku puutunud.\n\nPane end kirja siin!
URL:https://staging.tallitydrukud.ee/syndmus/saviring-tusaris-17/
LOCATION:Saviring\, Mardi\, Tusari küla\, Lääne-Nigula vald\, Läänemaa\, 91112\, Eesti
CATEGORIES:Saviring
ATTACH;FMTTYPE=image/jpeg:https://staging.tallitydrukud.ee/wp-content/uploads/2024/03/kairit_keraamika_saviring.jpg
ORGANIZER;CN="Kairit Errit":MAILTO:info@kairitkeraamika.ee
END:VEVENT
BEGIN:VEVENT
DTSTART;TZID=Europe/Helsinki:20240719T190000
DTEND;TZID=Europe/Helsinki:20240719T210000
DTSTAMP:20260422T133659
CREATED:20240628T104834Z
LAST-MODIFIED:20240628T104834Z
UID:1832-1721415600-1721422800@staging.tallitydrukud.ee
SUMMARY:Saviring Tusaris
DESCRIPTION:Tule tee näpud saviseks saviringis!\nOodatud on nii algajad kui ka need\, kes on saviga juba varasemalt kokku puutunud.\n\nPane end kirja siin!
URL:https://staging.tallitydrukud.ee/syndmus/saviring-tusaris-16/
LOCATION:Saviring\, Mardi\, Tusari küla\, Lääne-Nigula vald\, Läänemaa\, 91112\, Eesti
CATEGORIES:Saviring
ATTACH;FMTTYPE=image/jpeg:https://staging.tallitydrukud.ee/wp-content/uploads/2024/03/kairit_keraamika_saviring.jpg
ORGANIZER;CN="Kairit Errit":MAILTO:info@kairitkeraamika.ee
END:VEVENT
BEGIN:VEVENT
DTSTART;TZID=Europe/Helsinki:20240708T190000
DTEND;TZID=Europe/Helsinki:20240708T210000
DTSTAMP:20260422T133659
CREATED:20240628T104651Z
LAST-MODIFIED:20240628T104651Z
UID:1830-1720465200-1720472400@staging.tallitydrukud.ee
SUMMARY:Saviring Tusaris
DESCRIPTION:Tule tee näpud saviseks saviringis! Oodatud on nii algajad kui ka need\, kes on saviga juba varasemalt kokku puutunud. \nPane end kirja siin!
URL:https://staging.tallitydrukud.ee/syndmus/saviring-tusaris-15/
LOCATION:Saviring\, Mardi\, Tusari küla\, Lääne-Nigula vald\, Läänemaa\, 91112\, Eesti
CATEGORIES:Saviring
ATTACH;FMTTYPE=image/jpeg:https://staging.tallitydrukud.ee/wp-content/uploads/2024/03/kairit_keraamika_saviring.jpg
ORGANIZER;CN="Kairit Errit":MAILTO:info@kairitkeraamika.ee
END:VEVENT
BEGIN:VEVENT
DTSTART;TZID=Europe/Helsinki:20240705T190000
DTEND;TZID=Europe/Helsinki:20240705T210000
DTSTAMP:20260422T133659
CREATED:20240628T104445Z
LAST-MODIFIED:20240628T104445Z
UID:1828-1720206000-1720213200@staging.tallitydrukud.ee
SUMMARY:Saviring Tusaris
DESCRIPTION:Tule tee näpud saviseks saviringis! Oodatud on nii algajad kui ka need\, kes on saviga juba varasemalt kokku puutunud. \nPane end kirja siin!
URL:https://staging.tallitydrukud.ee/syndmus/saviring-tusaris-14/
LOCATION:Saviring\, Mardi\, Tusari küla\, Lääne-Nigula vald\, Läänemaa\, 91112\, Eesti
CATEGORIES:Saviring
ATTACH;FMTTYPE=image/jpeg:https://staging.tallitydrukud.ee/wp-content/uploads/2024/03/kairit_keraamika_saviring.jpg
ORGANIZER;CN="Kairit Errit":MAILTO:info@kairitkeraamika.ee
END:VEVENT
BEGIN:VEVENT
DTSTART;TZID=Europe/Helsinki:20240625T190000
DTEND;TZID=Europe/Helsinki:20240625T210000
DTSTAMP:20260422T133659
CREATED:20240628T104237Z
LAST-MODIFIED:20240628T104237Z
UID:1826-1719342000-1719349200@staging.tallitydrukud.ee
SUMMARY:Saviring Tusaris
DESCRIPTION:Tule tee näpud saviseks saviringis!\nOodatud on nii algajad kui ka need\, kes on saviga juba varasemalt kokku puutunud. \n\nPane end kirja siin!
URL:https://staging.tallitydrukud.ee/syndmus/saviring-tusaris-13/
LOCATION:Saviring\, Mardi\, Tusari küla\, Lääne-Nigula vald\, Läänemaa\, 91112\, Eesti
CATEGORIES:Saviring
ATTACH;FMTTYPE=image/jpeg:https://staging.tallitydrukud.ee/wp-content/uploads/2024/03/kairit_keraamika_saviring.jpg
ORGANIZER;CN="Kairit Errit":MAILTO:info@kairitkeraamika.ee
END:VEVENT
BEGIN:VEVENT
DTSTART;TZID=Europe/Helsinki:20240621T190000
DTEND;TZID=Europe/Helsinki:20240621T210000
DTSTAMP:20260422T133659
CREATED:20240603T171842Z
LAST-MODIFIED:20240603T171842Z
UID:1811-1718996400-1719003600@staging.tallitydrukud.ee
SUMMARY:Saviring Tusaris
DESCRIPTION:Tule tee näpud saviseks saviringis!\nOodatud on nii algajad kui ka need\, kes on saviga juba varasemalt kokku puutunud.\n\nPane end kirja siin!
URL:https://staging.tallitydrukud.ee/syndmus/saviring-tusaris-12/
LOCATION:Saviring\, Mardi\, Tusari küla\, Lääne-Nigula vald\, Läänemaa\, 91112\, Eesti
CATEGORIES:Saviring
ATTACH;FMTTYPE=image/jpeg:https://staging.tallitydrukud.ee/wp-content/uploads/2024/03/kairit_keraamika_saviring.jpg
ORGANIZER;CN="Kairit Errit":MAILTO:info@kairitkeraamika.ee
END:VEVENT
BEGIN:VEVENT
DTSTART;TZID=Europe/Helsinki:20240610T190000
DTEND;TZID=Europe/Helsinki:20240610T210000
DTSTAMP:20260422T133659
CREATED:20240603T171601Z
LAST-MODIFIED:20240603T171601Z
UID:1809-1718046000-1718053200@staging.tallitydrukud.ee
SUMMARY:Saviring Tusaris
DESCRIPTION:Tule tee näpud saviseks saviringis!\nOodatud on nii algajad kui ka need\, kes on saviga juba varasemalt kokku puutunud.\n\nPane end kirja siin!
URL:https://staging.tallitydrukud.ee/syndmus/saviring-tusaris-11/
LOCATION:Saviring\, Mardi\, Tusari küla\, Lääne-Nigula vald\, Läänemaa\, 91112\, Eesti
CATEGORIES:Saviring
ATTACH;FMTTYPE=image/jpeg:https://staging.tallitydrukud.ee/wp-content/uploads/2024/03/kairit_keraamika_saviring.jpg
ORGANIZER;CN="Kairit Errit":MAILTO:info@kairitkeraamika.ee
END:VEVENT
BEGIN:VEVENT
DTSTART;TZID=Europe/Helsinki:20240607T190000
DTEND;TZID=Europe/Helsinki:20240607T210000
DTSTAMP:20260422T133659
CREATED:20240603T171328Z
LAST-MODIFIED:20240603T171328Z
UID:1806-1717786800-1717794000@staging.tallitydrukud.ee
SUMMARY:Saviring Tusaris
DESCRIPTION:Tule tee näpud saviseks saviringis!\nOodatud on nii algajad kui ka need\, kes on saviga juba varasemalt kokku puutunud.\n\nPane end kirja siin!
URL:https://staging.tallitydrukud.ee/syndmus/saviring-tusaris-10/
LOCATION:Saviring\, Mardi\, Tusari küla\, Lääne-Nigula vald\, Läänemaa\, 91112\, Eesti
CATEGORIES:Saviring
ATTACH;FMTTYPE=image/jpeg:https://staging.tallitydrukud.ee/wp-content/uploads/2024/03/kairit_keraamika_saviring.jpg
ORGANIZER;CN="Kairit Errit":MAILTO:info@kairitkeraamika.ee
END:VEVENT
END:VCALENDAR